{"text_format":"1","workbook":"xlsx","n_sheets":7,"sheets":["APROV 1","Gráfica APROV 1","APROV 2 y 3","Gráfica APROV 2 Y 3","Gráfica Promedios Finales","MATRICULA","NORMALIDAD MÍNIMA"],"not_rendered":{"charts":4,"images":0,"macros":1,"external_links":0,"defined_names":1,"comments":0,"pivot_tables":0},"unopened":[],"bounds":{"document_bytes":16777216,"sheet_cells":100000,"rows_first":2000,"rows_last":500,"rows_between":2000,"halvings":0,"cell_chars":16384,"cell_head_chars":4096},"cells_cut":0,"cells_raw":0,"read":"whole","date_system":"1900"}

{"sheet":"APROV 1","index":0,"n_rows":33,"n_cols":30,"rows_kept":33,"cut":false,"hidden":false,"merged":[[32,0,34,28],[0,0,0,34],[1,0,1,34],[2,0,2,34],[4,0,4,34],[6,0,6,34],[20,0,20,21],[20,22,20,27],[18,13,18,15],[16,25,16,27],[17,25,17,27],[18,25,18,27],[10,28,10,29],[11,28,11,29],[12,28,12,29],[13,28,13,29],[14,28,14,29],[15,28,15,29],[16,28,16,29],[17,28,17,29],[18,28,18,29],[15,25,15,27],[10,25,10,27],[11,25,11,27],[12,25,12,27],[13,25,13,27],[11,16,11,18],[12,16,12,18],[18,7,18,9],[10,10,10,12],[11,10,11,12],[12,10,12,12],[13,10,13,12],[14,10,14,12],[11,22,11,24],[12,22,12,24],[16,10,16,12],[17,10,17,12],[18,10,18,12],[12,7,12,9],[13,7,13,9],[14,7,14,9],[15,7,15,9],[10,7,10,9],[11,7,11,9],[16,7,16,9],[17,7,17,9],[18,1,18,3],[10,4,10,6],[11,4,11,6],[12,4,12,6],[13,4,13,6],[14,4,14,6],[15,4,15,6],[16,4,16,6],[17,4,17,6],[18,4,18,6],[10,1,10,3],[11,1,11,3],[12,1,12,3],[13,1,13,3],[14,1,14,3],[15,1,15,3],[16,1,16,3],[17,1,17,3],[21,16,21,18],[21,25,21,27],[13,13,13,15],[14,13,14,15],[15,13,15,15],[16,13,16,15],[17,13,17,15],[13,16,13,18],[14,16,14,18],[15,16,15,18],[16,16,16,18],[17,16,17,18],[18,16,18,18],[17,19,17,21],[18,19,18,21],[13,22,13,24],[14,22,14,24],[15,22,15,24],[16,22,16,24],[17,22,17,24],[18,22,18,24],[14,25,14,27],[21,19,21,21],[21,22,21,24],[9,1,9,3],[9,4,9,6],[9,7,9,9],[9,10,9,12],[9,13,9,15],[9,16,9,18],[9,25,9,27],[9,22,9,24],[10,22,10,24],[10,16,10,18],[21,28,21,29],[21,1,21,3],[21,0,22,0],[21,4,21,6],[21,7,21,9],[21,10,21,12],[9,28,9,29],[8,28,8,29],[9,19,9,21],[10,19,10,21],[11,19,11,21],[12,19,12,21],[13,19,13,21],[14,19,14,21],[15,19,15,21],[8,0,8,21],[8,22,8,27],[10,13,10,15],[11,13,11,15],[12,13,12,15],[15,10,15,12],[16,19,16,21],[21,13,21,15],[9,0,10,0]]}
["SECRETARÍA DE EDUCACIÓN PÚBLICA DEL ESTADO DE BAJA CALIFORNIA SUR"]
["DIRECCIÓN DE EDUCACIÓN SECUNDARIA"]
["CICLO ESCOLAR 2018 - 2019"]
[]
["APROVECHAMIENTO Y RIESGO DE NO ACREDITAR"]
[]
["DIRECCIÓN: EDUCACIÓN SECUNDARIA    DIRECTOR: PROFR. RUMUALDO RAMÍREZ GUTIERRÉZ     PERIODO DE EVALUACIÓN:  3ER. PERIODO"]
[null,null,null,null,null,null,null,null,null,null,null,null,null,null,null,null," "]
["Promedio de Aprovechamiento de los Campos de Formación Académica",null,null,null,null,null,null,null,null,null,null,null,null,null,null,null,null,null,null,null,null,null,"Promedio de Aprovechamiento de las Áreas de Desarrollo Personal y Social"]
["Modalidad","Lengua Materna (Español)",null,null,"Lengua Extranjera (Inglés)",null,null,"Matemáticas",null,null,"Ciencias y Tecnología Biología",null,null,"Historia",null,null,"Geografía",null,null,"Formación Cívica y Ética",null,null,"Artes",null,null,"Educación Física",null,null,"Prom. Final"]
[null,"CALIF",null,null,"CALIF",null,null,"CALIF",null,null,"CALIF",null,null,"CALIF",null,null,"CALIF",null,null,"CALIF",null,null,"CALIF",null,null,"CALIF",null,null,"CALIF"]
["Grales.",8.4,null,null,8.4,null,null,8.1999999999999993,null,null,8.4,null,null,8.5,null,null,8.6,null,null,8.6,null,null,9.1999999999999993,null,null,9.6,null,null,{"$f":"IFERROR(ROUND(AVERAGE(B12:AB12),1),\"\")","v":8.6999999999999993}]
["Técs.",8.1999999999999993,null,null,8.1999999999999993,null,null,8.1,null,null,8.1999999999999993,null,null,8.1,null,null,8.3000000000000007,null,null,8.3000000000000007,null,null,9,null,null,9.3000000000000007,null,null,8.4]
["Telesec.",8.1999999999999993,null,null,8.1,null,null,8.1,null,null,8.3000000000000007,null,null,8.1999999999999993,null,null,8.3000000000000007,null,null,8.5,null,null,9.1,null,null,9.1999999999999993,null,null,8.4]
[null,null,null,null,null,null,null,null,null,null,null,null,null,null,null,null,null,null,null,null,null,null,null,null,null,null,null,null,""]
[null,null,null,null,null,null,null,null,null,null,null,null,null,null,null,null,null,null,null,null,null,null,null,null,null,null,null,null,""]
[null,null,null,null,null,null,null,null,null,null,null,null,null,null,null,null,null,null,null,null,null,null,null,null,null,null,null,null,""]
[null,null,null,null,null,null,null,null,null,null,null,null,null,null,null,null,null,null,null,null,null,null,null,null,null,null,null,null,""]
["Gral.",{"$f":"IFERROR(ROUND(AVERAGE(B12:D18),1),\"\")","v":8.3000000000000007},null,null,{"$f":"IFERROR(ROUND(AVERAGE(E12:G18),1),\"\")","v":8.1999999999999993},null,null,{"$f":"IFERROR(ROUND(AVERAGE(H12:J18),1),\"\")","v":8.1},null,null,{"$f":"IFERROR(ROUND(AVERAGE(K12:M18),1),\"\")","v":8.3000000000000007},null,null,{"$f":"IFERROR(ROUND(AVERAGE(N12:P18),1),\"\")","v":8.3000000000000007},null,null,{"$f":"IFERROR(ROUND(AVERAGE(Q12:S18),1),\"\")","v":8.4},null,null,{"$f":"IFERROR(ROUND(AVERAGE(T12:V18),1),\"\")","v":8.5},null,null,{"$f":"IFERROR(ROUND(AVERAGE(W12:Y18),1),\"\")","v":9.1},null,null,{"$f":"IFERROR(ROUND(AVERAGE(Z12:AB18),1),\"\")","v":9.4},null,null,{"$f":"IFERROR(ROUND(AVERAGE(AC12:AD18),1),\"\")","v":8.5}]
[]
["Campos de Formación Académica en riesgo de no acreditar",null,null,null,null,null,null,null,null,null,null,null,null,null,null,null,null,null,null,null,null,null,"Áreas de Desarrollo Personal y Social en riesgo de no acreditar"]
["Modalidad","Lengua Materna (Español)",null,null,"Lengua Extranjera (Inglés)",null,null,"Matemáticas",null,null,"Ciencias y Tecnología Biología",null,null,"Historia",null,null,"Geografía",null,null,"Formación Cívica y Ética",null,null,"Artes",null,null,"Educación Física",null,null,"Total"]
[null,5,6,"T",5,6,"T",5,6,"T",5,6,"T",5,6,"T",5,6,"T",5,6,"T",5,6,"T",5,6,"T",5,6]
["Grales.",100,711,{"$f":"IF(SUM(B24,C24)=0,\"\",SUM(B24,C24))","v":811},149,715,{"$f":"IF(SUM(E24,F24)=0,\"\",SUM(E24,F24))","v":864},149,789,{"$f":"IF(SUM(H24,I24)=0,\"\",SUM(H24,I24))","v":938},123,583,{"$f":"IF(SUM(K24,L24)=0,\"\",SUM(K24,L24))","v":706},107,625,{"$f":"IF(SUM(N24,O24)=0,\"\",SUM(N24,O24))","v":732},115,589,{"$f":"IF(SUM(Q24,R24)=0,\"\",SUM(Q24,R24))","v":704},86,568,{"$f":"IF(SUM(T24,U24)=0,\"\",SUM(T24,U24))","v":654},44,195,{"$f":"IF(SUM(W24,X24)=0,\"\",SUM(W24,X24))","v":239},21,49,{"$f":"IF(SUM(Z24,AA24)=0,\"\",SUM(Z24,AA24))","v":70},{"$f":"IF(SUM(B24,E24,H24,K24,N24,Q24,T24,W24,Z24)=0,\"\",SUM(B24,E24,H24,K24,N24,Q24,T24,W24,Z24))","v":894},{"$f":"IF(SUM(C24,F24,I24,L24,O24,R24,U24,X24,AA24)=0,\"\",SUM(C24,F24,I24,L24,O24,R24,U24,X24,AA24))","v":4824}]
["Técs",164,514,{"$f":"IF(SUM(B25,C25)=0,\"\",SUM(B25,C25))","v":678},167,487,{"$f":"IF(SUM(E25,F25)=0,\"\",SUM(E25,F25))","v":654},165,678,{"$f":"IF(SUM(H25,I25)=0,\"\",SUM(H25,I25))","v":843},144,589,{"$f":"IF(SUM(K25,L25)=0,\"\",SUM(K25,L25))","v":733},234,563,{"$f":"IF(SUM(N25,O25)=0,\"\",SUM(N25,O25))","v":797},140,544,{"$f":"IF(SUM(Q25,R25)=0,\"\",SUM(Q25,R25))","v":684},206,518,{"$f":"IF(SUM(T25,U25)=0,\"\",SUM(T25,U25))","v":724},34,233,{"$f":"IF(SUM(W25,X25)=0,\"\",SUM(W25,X25))","v":267},19,48,{"$f":"IF(SUM(Z25,AA25)=0,\"\",SUM(Z25,AA25))","v":67},{"$f":"IF(SUM(B25,E25,H25,K25,N25,Q25,T25,W25,Z25)=0,\"\",SUM(B25,E25,H25,K25,N25,Q25,T25,W25,Z25))","v":1273},{"$f":"IF(SUM(C25,F25,I25,L25,O25,R25,U25,X25,AA25)=0,\"\",SUM(C25,F25,I25,L25,O25,R25,U25,X25,AA25))","v":4174}]
["Telesec.",48,140,188,59,174,233,55,181,236,43,120,163,51,159,210,46,125,171,41,102,143,29,95,124,15,42,57,387,1138]
[null,null,null,"",null,null,"",null,null,"",null,null,"",null,null,"",null,null,"",null,null,"",null,null,"",null,null,"","",""]
[null,null,null,"",null,null,"",null,null,"",null,null,"",null,null,"",null,null,"",null,null,"",null,null,"",null,null,"","",""]
[null,null,null,"",null,null,"",null,null,"",null,null,"",null,null,"",null,null,"",null,null,"",null,null,"",null,null,"","",""]
[null,null,null,{"$f":"IF(SUM(B30,C30)=0,\"\",SUM(B30,C30))","v":""},null,null,{"$f":"IF(SUM(E30,F30)=0,\"\",SUM(E30,F30))","v":""},null,null,{"$f":"IF(SUM(H30,I30)=0,\"\",SUM(H30,I30))","v":""},null,null,{"$f":"IF(SUM(K30,L30)=0,\"\",SUM(K30,L30))","v":""},null,null,{"$f":"IF(SUM(N30,O30)=0,\"\",SUM(N30,O30))","v":""},null,null,{"$f":"IF(SUM(Q30,R30)=0,\"\",SUM(Q30,R30))","v":""},null,null,"",null,null,"",null,null,{"$f":"IF(SUM(Z30,AA30)=0,\"\",SUM(Z30,AA30))","v":""},"",""]
["Total",{"$f":"IF(SUM(B24:B30)=0,\"\",SUM(B24:B30))","v":312},1365,1677,375,1376,1751,369,1648,2017,310,1292,1602,392,1347,1739,301,1258,1559,333,1188,1521,107,523,630,55,139,194,2554,10136]
[]
["Nota: Para las columnas \"Campos de Formación Académica y Áreas de Desarrollo Personal y Social en riesgo de no acreditar\" registre la cantidad de cincos o seis que existen en cada campo o área."]

{"sheet":"Gráfica APROV 1","index":1,"n_rows":2,"n_cols":10,"rows_kept":2,"cut":false,"hidden":false,"merged":[]}
[null,"Lengua Materna (Español)","Lengua Extranjera (Inglés)","Matemáticas","Ciencias y Tecnología Biología","Historia","Geografía","Formación Cívica y Ética","Artes","Educación Física"]
[null,{"$f":"'APROV 1'!B19:D19","v":8.3000000000000007},{"$f":"'APROV 1'!E19","v":8.1999999999999993},{"$f":"'APROV 1'!H19","v":8.1},{"$f":"'APROV 1'!K19","v":8.3000000000000007},{"$f":"'APROV 1'!N19","v":8.3000000000000007},{"$f":"'APROV 1'!Q19","v":8.4},{"$f":"'APROV 1'!T19","v":8.5},{"$f":"'APROV 1'!W19","v":9.1},{"$f":"'APROV 1'!Z19","v":9.4}]

{"sheet":"APROV 2 y 3","index":2,"n_rows":67,"n_cols":27,"rows_kept":67,"cut":false,"hidden":false,"merged":[[6,0,6,29],[32,0,34,29],[66,0,68,28],[0,0,0,32],[1,0,1,32],[2,0,2,32],[4,0,4,32],[35,0,35,32],[36,0,36,32],[37,0,37,32],[20,19,20,24],[20,25,20,26],[18,16,18,18],[9,19,9,21],[10,19,10,21],[11,19,11,21],[12,19,12,21],[13,19,13,21],[14,19,14,21],[15,19,15,21],[16,19,16,21],[17,19,17,21],[18,19,18,21],[11,25,11,26],[39,0,39,32],[41,0,41,32],[43,0,43,18],[43,19,43,24],[43,25,43,26],[56,16,56,18],[56,19,56,21],[55,0,55,18],[55,19,55,24],[55,25,55,26],[44,19,44,21],[45,19,45,21],[46,19,46,21],[47,19,47,21],[48,19,48,21],[49,19,49,21],[50,19,50,21],[51,19,51,21],[52,19,52,21],[44,16,44,18],[45,16,45,18],[46,16,46,18],[44,10,44,12],[13,25,13,26],[14,25,14,26],[15,25,15,26],[16,25,16,26],[17,25,17,26],[11,22,11,24],[12,22,12,24],[13,22,13,24],[14,22,14,24],[15,22,15,24],[16,22,16,24],[17,22,17,24],[12,25,12,26],[10,16,10,18],[11,16,11,18],[12,16,12,18],[13,16,13,18],[14,16,14,18],[15,16,15,18],[16,16,16,18],[17,16,17,18],[11,7,11,9],[12,7,12,9],[13,7,13,9],[14,7,14,9],[15,7,15,9],[16,7,16,9],[17,7,17,9],[18,10,18,12],[10,13,10,15],[11,13,11,15],[12,13,12,15],[13,13,13,15],[14,13,14,15],[15,13,15,15],[16,13,16,15],[17,13,17,15],[18,13,18,15],[10,10,10,12],[11,10,11,12],[12,10,12,12],[13,10,13,12],[14,10,14,12],[15,10,15,12],[16,10,16,12],[11,1,11,3],[12,1,12,3],[13,1,13,3],[14,1,14,3],[15,1,15,3],[17,4,17,6],[10,4,10,6],[11,4,11,6],[12,4,12,6],[13,4,13,6],[14,4,14,6],[15,4,15,6],[16,4,16,6],[44,13,44,15],[44,22,44,24],[44,25,44,26],[16,1,16,3],[17,1,17,3],[18,1,18,3],[21,25,21,26],[18,22,18,24],[18,25,18,26],[18,4,18,6],[18,7,18,9],[38,0,38,60],[21,0,22,0],[21,1,21,3],[21,4,21,6],[21,7,21,9],[21,16,21,18],[21,19,21,21],[20,0,20,18],[21,10,21,12],[17,10,17,12],[21,13,21,15],[21,22,21,24],[44,0,45,0],[56,0,57,0],[56,1,56,3],[56,4,56,6],[56,7,56,9],[56,10,56,12],[56,13,56,15],[56,22,56,24],[48,13,48,15],[49,13,49,15],[50,13,50,15],[51,13,51,15],[52,13,52,15],[50,1,50,3],[51,1,51,3],[52,1,52,3],[52,7,52,9],[53,16,53,18],[53,19,53,21],[45,7,45,9],[46,7,46,9],[47,7,47,9],[48,7,48,9],[49,7,49,9],[53,22,53,24],[53,13,53,15],[44,1,44,3],[44,4,44,6],[53,4,53,6],[53,1,53,3],[53,7,53,9],[45,4,45,6],[46,4,46,6],[47,4,47,6],[48,4,48,6],[49,4,49,6],[50,4,50,6],[51,4,51,6],[45,1,45,3],[46,1,46,3],[47,1,47,3],[48,1,48,3],[49,1,49,3],[45,13,45,15],[46,13,46,15],[47,13,47,15],[44,7,44,9],[52,4,52,6],[3,0,3,60],[9,25,9,26],[9,0,10,0],[9,1,9,3],[9,4,9,6],[9,7,9,9],[9,10,9,12],[9,13,9,15],[9,22,9,24],[10,25,10,26],[9,16,9,18],[8,0,8,18],[10,1,10,3],[10,7,10,9],[8,25,8,26],[8,19,8,24],[10,22,10,24],[50,7,50,9],[51,7,51,9],[47,16,47,18],[48,16,48,18],[49,16,49,18],[50,16,50,18],[51,16,51,18],[52,16,52,18],[56,25,56,26],[45,22,45,24],[46,22,46,24],[47,22,47,24],[48,22,48,24],[49,22,49,24],[50,22,50,24],[51,22,51,24],[52,22,52,24],[53,25,53,26],[45,25,45,26],[46,25,46,26],[47,25,47,26],[48,25,48,26],[49,25,49,26],[50,25,50,26],[51,25,51,26],[52,25,52,26],[45,10,45,12],[46,10,46,12],[47,10,47,12],[48,10,48,12],[49,10,49,12],[50,10,50,12],[51,10,51,12],[52,10,52,12],[53,10,53,12]]}
["SECRETARÍA DE EDUCACIÓN PÚBLICA DEL ESTADO DE BAJA CALIFORNIA SUR"]
["DIRECCIÓN DE EDUCACIÓN SECUNDARIA"]
["CICLO ESCOLAR 2018 - 2019"]
[]
["APROVECHAMIENTO Y RIESGO DE NO ACREDITAR"]
[]
["DIRECCIÓN: EDUCACIÓN SECUNDARIA    DIRECTOR: PROFR. RUMUALDO RAMÍREZ GUTIERRÉZ     PERIODO DE EVALUACIÓN:  3ER. PERIODO."]
[]
["Promedio de Aprovechamiento de los Campos de Formación Académica",null,null,null,null,null,null,null,null,null,null,null,null,null,null,null,null,null,null,"Promedio de Aprovechamiento de las Áreas de Desarrollo Personal y Social"]
["Modalidad","Español II",null,null,"Segunda Lengua Inglés II",null,null,"Matemáticas II",null,null,"Ciencias II (Enfásis en Física)",null,null,"Historia I",null,null,"Formación Cívica y Ética I",null,null,"Artes",null,null,"Educación Física",null,null,"Prom. Final"]
[null,"CALIF",null,null,"CALIF",null,null,"CALIF",null,null,"CALIF",null,null,"CALIF",null,null,"CALIF",null,null,"CALIF",null,null,"CALIF",null,null,"CALIF"]
["Grales.",8.3000000000000007,null,null,8.4,null,null,8.1,null,null,8.3000000000000007,null,null,8.5,null,null,8.5,null,null,9.1999999999999993,null,null,9.5,null,null,{"$f":"IFERROR(ROUND(AVERAGE(B12:Y12),1),\"\")","v":8.6}]
["Técs.",7.9,null,null,8.1,null,null,7.8,null,null,8.1,null,null,8.1,null,null,8.3000000000000007,null,null,8.6999999999999993,null,null,9.3000000000000007,null,null,{"$f":"IFERROR(ROUND(AVERAGE(B13:Y13),1),\"\")","v":8.3000000000000007}]
["Telesec.",8.1999999999999993,null,null,8.1,null,null,8.1,null,null,8.1999999999999993,null,null,8.1999999999999993,null,null,8.4,null,null,9.1,null,null,9.3000000000000007,null,null,8.5]
[null,null,null,null,null,null,null,null,null,null,null,null,null,null,null,null,null,null,null,null,null,null,null,null,null,""]
[null,null,null,null,null,null,null,null,null,null,null,null,null,null,null,null,null,null,null,null,null,null,null,null,null,""]
[null,null,null,null,null,null,null,null,null,null,null,null,null,null,null,null,null,null,null,null,null,null,null,null,null,""]
[null,null,null,null,null,null,null,null,null,null,null,null,null,null,null,null,null,null,null,null,null,null,null,null,null,""]
["Gral.",{"$f":"IFERROR(ROUND(AVERAGE(B12:D18),1),\"\")","v":8.1},null,null,{"$f":"IFERROR(ROUND(AVERAGE(E12:G18),1),\"\")","v":8.1999999999999993},null,null,{"$f":"IFERROR(ROUND(AVERAGE(H12:J18),1),\"\")","v":8},null,null,{"$f":"IFERROR(ROUND(AVERAGE(K12:M18),1),\"\")","v":8.1999999999999993},null,null,{"$f":"IFERROR(ROUND(AVERAGE(N12:P18),1),\"\")","v":8.3000000000000007},null,null,{"$f":"IFERROR(ROUND(AVERAGE(Q12:S18),1),\"\")","v":8.4},null,null,{"$f":"IFERROR(ROUND(AVERAGE(T12:V18),1),\"\")","v":9},null,null,{"$f":"IFERROR(ROUND(AVERAGE(W12:Y18),1),\"\")","v":9.4},null,null,{"$f":"IFERROR(ROUND(AVERAGE(Z12:AA18),1),\"\")","v":8.5}]
[]
["Campos de Formación Académica en situacion de riesgo de no acreditar",null,null,null,null,null,null,null,null,null,null,null,null,null,null,null,null,null,null,"Áreas de Desarrollo Personal y Social en situacion de riesgo de no acreditar"]
["Modalidad","Español II",null,null,"Segunda Lengua Inglés II",null,null,"Matemáticas II",null,null,"Ciencias II (Enfásis en Física)",null,null,"Historia I",null,null,"Formación Cívica y Ética I",null,null,"Artes",null,null,"Educación Física",null,null,"Total"]
[null,5,6,"T",5,6,"T",5,6,"T",5,6,"T",5,6,"T",5,6,"T",5,6,"T",5,6,"T",5,6]
["Grales.",198,842,{"$f":"IF(SUM(B24,C24)=0,\"\",SUM(B24,C24))","v":1040},194,776,{"$f":"IF(SUM(E24,F24)=0,\"\",SUM(E24,F24))","v":970},221,948,{"$f":"IF(SUM(H24,I24)=0,\"\",SUM(H24,I24))","v":1169},212,812,{"$f":"IF(SUM(K24,L24)=0,\"\",SUM(K24,L24))","v":1024},140,669,{"$f":"IF(SUM(N24,O24)=0,\"\",SUM(N24,O24))","v":809},138,638,{"$f":"IF(SUM(Q24,R24)=0,\"\",SUM(Q24,R24))","v":776},92,312,{"$f":"IF(SUM(T24,U24)=0,\"\",SUM(T24,U24))","v":404},38,62,{"$f":"IF(SUM(W24,X24)=0,\"\",SUM(W24,X24))","v":100},{"$f":"IF(SUM(B24,E24,H24,K24,N24,Q24,T24,W24)=0,\"\",SUM(B24,E24,H24,K24,N24,Q24,T24,W24))","v":1233},{"$f":"IF(SUM(C24,F24,I24,L24,O24,R24,U24,X24)=0,\"\",SUM(C24,F24,I24,L24,O24,R24,U24,X24))","v":5059}]
["Técs.",233,583,816,312,839,1151,220,738,958,330,570,900,233,573,806,214,484,698,88,324,412,26,44,70,{"$f":"IF(SUM(B25,E25,H25,K25,N25,Q25,T25,W25)=0,\"\",SUM(B25,E25,H25,K25,N25,Q25,T25,W25))","v":1656},{"$f":"IF(SUM(C25,F25,I25,L25,O25,R25,U25,X25)=0,\"\",SUM(C25,F25,I25,L25,O25,R25,U25,X25))","v":4155}]
["Telesec.",48,124,172,48,153,201,36,177,213,63,159,222,43,137,180,35,111,146,12,64,76,6,34,40,291,959]
[null,null,null,"",null,null,"",null,null,"",null,null,"",null,null,"",null,null,"",null,null,"",null,null,"","",""]
[null,null,null,"",null,null,"",null,null,"",null,null,"",null,null,"",null,null,"",null,null,"",null,null,"","",""]
[null,null,null,"",null,null,"",null,null,"",null,null,"",null,null,"",null,null,"",null,null,"",null,null,"","",""]
[null,null,null,"",null,null,"",null,null,"",null,null,"",null,null,"",null,null,"",null,null,"",null,null,"","",""]
["Total",{"$f":"IF(SUM(B24:B30)=0,\"\",SUM(B24:B30))","v":479},1549,2028,554,1768,2322,477,1863,2340,605,1541,2146,416,1379,1795,387,1233,1620,192,700,892,70,140,210,3180,10173]
[]
["Nota: Para las columnas \"Campos de Formación Académica y Áreas de Desarrollo Personal y Social en riesgo de no acreditar\" registre la cantidad de cincos o seis que existen en cada campo o área."]
[]
[]
["SECRETARÍA DE EDUCACIÓN PÚBLICA DEL ESTADO DE BAJA CALIFORNIA SUR"]
["DIRECCIÓN DE EDUCACIÓN SECUNDARIA"]
["CICLO ESCOLAR 2018 - 2019"]
[]
["APROVECHAMIENTO Y RIESGO DE NO ACREDITAR"]
[]
["DIRECCIÓN: EDUCACIÓN SECUNDARIA    DIRECTOR: PROFR. RUMUALDO RAMÍREZ GUTIERRÉZ     PERIODO DE EVALUACIÓN:  3ER. PERIODO."]
[]
["Promedio de Aprovechamiento de los Campos de Formación Académica",null,null,null,null,null,null,null,null,null,null,null,null,null,null,null,null,null,null,"Promedio de Aprovechamiento de las Áreas de Desarrollo Personal y Social"]
["Modalidad","Español III",null,null,"Segunda Lengua Inglés III",null,null,"Matemáticas III",null,null,"Ciencias III (Enfásis en Química)",null,null,"Historia II",null,null,"Formación Cívica y Ética II",null,null,"Artes",null,null,"Educación Física",null,null,"Prom. Final"]
[null,"CALIF",null,null,"CALIF",null,null,"CALIF",null,null,"CALIF",null,null,"CALIF",null,null,"CALIF",null,null,"CALIF",null,null,"CALIF",null,null,"CALIF"]
["Grales.",8.5,null,null,8.5,null,null,8.1999999999999993,null,null,8.3000000000000007,null,null,8.6,null,null,8.6999999999999993,null,null,9.1999999999999993,null,null,9.5,null,null,{"$f":"IFERROR(ROUND(AVERAGE(B47:Y47),1),\"\")","v":8.6999999999999993}]
["Técs.",8.3000000000000007,null,null,8.1,null,null,7.8,null,null,8,null,null,8.1999999999999993,null,null,8.3000000000000007,null,null,8.9,null,null,9.4,null,null,{"$f":"IFERROR(ROUND(AVERAGE(B48:Y48),1),\"\")","v":8.4}]
["Telesec.",8.3000000000000007,null,null,8.3000000000000007,null,null,8.1,null,null,8.3000000000000007,null,null,8.3000000000000007,null,null,8.6,null,null,9.1999999999999993,null,null,9.4,null,null,8.6]
[null,null,null,null,null,null,null,null,null,null,null,null,null,null,null,null,null,null,null,null,null,null,null,null,null,""]
[null,null,null,null,null,null,null,null,null,null,null,null,null,null,null,null,null,null,null,null,null,null,null,null,null,""]
[null,null,null,null,null,null,null,null,null,null,null,null,null,null,null,null,null,null,null,null,null,null,null,null,null,""]
[null,null,null,null,null,null,null,null,null,null,null,null,null,null,null,null,null,null,null,null,null,null,null,null,null,""]
["Gral.",{"$f":"IFERROR(ROUND(AVERAGE(B47:D53),1),\"\")","v":8.4},null,null,{"$f":"IFERROR(ROUND(AVERAGE(E47:G53),1),\"\")","v":8.3000000000000007},null,null,{"$f":"IFERROR(ROUND(AVERAGE(H47:J53),1),\"\")","v":8},null,null,{"$f":"IFERROR(ROUND(AVERAGE(K47:M53),1),\"\")","v":8.1999999999999993},null,null,{"$f":"IFERROR(ROUND(AVERAGE(N47:P53),1),\"\")","v":8.4},null,null,{"$f":"IFERROR(ROUND(AVERAGE(Q47:S53),1),\"\")","v":8.5},null,null,{"$f":"IFERROR(ROUND(AVERAGE(T47:V53),1),\"\")","v":9.1},null,null,{"$f":"IFERROR(ROUND(AVERAGE(W47:Y53),1),\"\")","v":9.4},null,null,{"$f":"IFERROR(ROUND(AVERAGE(Z47:AA53),1),\"\")","v":8.6}]
[]
["Campos de Formación Académica en situacion de riesgo de no acreditar",null,null,null,null,null,null,null,null,null,null,null,null,null,null,null,null,null,null,"Áreas de Desarrollo Personal y Social en situacion de riesgo de no acreditar"]
["Modalidad","Español III",null,null,"Segunda Lengua Inglés III",null,null,"Matemáticas III",null,null,"Ciencias III (Enfásis en Química)",null,null,"Historia II",null,null,"Formación Cívica y Ética II",null,null,"Artes",null,null,"Educación Física",null,null,"Total"]
[null,5,6,"T",5,6,"T",5,6,"T",5,6,"T",5,6,"T",5,6,"T",5,6,"T",5,6,"T",5,6]
["Grales.",115,689,{"$f":"IF(SUM(B59,C59)=0,\"\",SUM(B59,C59))","v":804},127,734,{"$f":"IF(SUM(E59,F59)=0,\"\",SUM(E59,F59))","v":861},145,866,{"$f":"IF(SUM(H59,I59)=0,\"\",SUM(H59,I59))","v":1011},195,778,{"$f":"IF(SUM(K59,L59)=0,\"\",SUM(K59,L59))","v":973},87,528,{"$f":"IF(SUM(N59,O59)=0,\"\",SUM(N59,O59))","v":615},65,523,{"$f":"IF(SUM(Q59,R59)=0,\"\",SUM(Q59,R59))","v":588},51,202,{"$f":"IF(SUM(T59,U59)=0,\"\",SUM(T59,U59))","v":253},12,57,{"$f":"IF(SUM(W59,X59)=0,\"\",SUM(W59,X59))","v":69},{"$f":"IF(SUM(B59,E59,H59,K59,N59,Q59,T59,W59)=0,\"\",SUM(B59,E59,H59,K59,N59,Q59,T59,W59))","v":797},{"$f":"IF(SUM(C59,F59,I59,L59,O59,R59,U59,X59)=0,\"\",SUM(C59,F59,I59,L59,O59,R59,U59,X59))","v":4377}]
["Técs.",165,517,{"$f":"IF(SUM(B60,C60)=0,\"\",SUM(B60,C60))","v":682},176,623,{"$f":"IF(SUM(E60,F60)=0,\"\",SUM(E60,F60))","v":799},283,843,{"$f":"IF(SUM(H60,I60)=0,\"\",SUM(H60,I60))","v":1126},211,667,{"$f":"IF(SUM(K60,L60)=0,\"\",SUM(K60,L60))","v":878},195,555,{"$f":"IF(SUM(N60,O60)=0,\"\",SUM(N60,O60))","v":750},182,509,691,60,269,329,23,46,69,{"$f":"IF(SUM(B60,E60,H60,K60,N60,Q60,T60,W60)=0,\"\",SUM(B60,E60,H60,K60,N60,Q60,T60,W60))","v":1295},{"$f":"IF(SUM(C60,F60,I60,L60,O60,R60,U60,X60)=0,\"\",SUM(C60,F60,I60,L60,O60,R60,U60,X60))","v":4029}]
["Telesec.",23,93,116,29,122,151,34,125,159,32,108,140,35,115,150,31,91,122,21,97,118,7,41,48,212,792]
[null,null,null,"",null,null,"",null,null,"",null,null,"",null,null,"",null,null,"",null,null,"",null,null,"","",""]
[null,null,null,"",null,null,"",null,null,"",null,null,"",null,null,"",null,null,"",null,null,"",null,null,"","",""]
[null,null,null,"",null,null,"",null,null,"",null,null,"",null,null,"",null,null,"",null,null,"",null,null,"","",""]
[null,null,null,"",null,null,"",null,null,"",null,null,"",null,null,"",null,null,"",null,null,"",null,null,"","",""]
["Total",{"$f":"IF(SUM(B59:B65)=0,\"\",SUM(B59:B65))","v":303},1299,1602,332,1479,1811,462,1834,2296,438,1553,1991,317,1198,1515,278,1123,1401,132,568,700,42,144,186,2304,9198]
["Nota: Para las columnas \"Campos de Formación Académica y Áreas de Desarrollo Personal y Social en riesgo de no acreditar\" registre la cantidad de cincos o seis que existen en cada campo o área."]

{"sheet":"Gráfica APROV 2 Y 3","index":3,"n_rows":20,"n_cols":9,"rows_kept":20,"cut":false,"hidden":false,"merged":[]}
[]
[null,"Español II","Segunda Lengua Inglés II","Matemáticas II","Ciencias II (Enfásis en Física)","Historia I","Formación Cívica y Ética I","Artes","Educación Física"]
[null,{"$f":"'APROV 2 y 3'!B19","v":8.1},{"$f":"'APROV 2 y 3'!E19","v":8.1999999999999993},{"$f":"'APROV 2 y 3'!H19","v":8},{"$f":"'APROV 2 y 3'!K19","v":8.1999999999999993},{"$f":"'APROV 2 y 3'!N19","v":8.3000000000000007},{"$f":"'APROV 2 y 3'!Q19","v":8.4},{"$f":"'APROV 2 y 3'!T19","v":9},{"$f":"'APROV 2 y 3'!W19","v":9.4}]
[]
[]
[]
[]
[]
[]
[]
[]
[]
[]
[]
[]
[]
[]
[]
[null,"Español III","Segunda Lengua Inglés III","Matemáticas III","Ciencias III (Enfásis en Química)","Historia II","Formación Cívica y Ética II","Artes","Educación Física"]
[null,{"$f":"'APROV 2 y 3'!B54","v":8.4},{"$f":"'APROV 2 y 3'!E54","v":8.3000000000000007},{"$f":"'APROV 2 y 3'!H54","v":8},{"$f":"'APROV 2 y 3'!K54","v":8.1999999999999993},{"$f":"'APROV 2 y 3'!N54","v":8.4},{"$f":"'APROV 2 y 3'!Q54","v":8.5},{"$f":"'APROV 2 y 3'!T54","v":9.1},{"$f":"'APROV 2 y 3'!W54","v":9.4}]

{"sheet":"Gráfica Promedios Finales","index":4,"n_rows":11,"n_cols":4,"rows_kept":11,"cut":false,"hidden":false,"merged":[]}
[]
[]
[]
[]
[]
[]
[]
[]
[]
[null,"PROMEDIO 1RO","PROMEDIO 2DO","PROMEDIO 3ERO"]
[null,{"$f":"+'APROV 1'!AC19","v":8.5},{"$f":"+'APROV 2 y 3'!Z19","v":8.5},{"$f":"+'APROV 2 y 3'!Z54","v":8.6}]

{"sheet":"MATRICULA","index":5,"n_rows":38,"n_cols":37,"rows_kept":38,"cut":false,"hidden":false,"merged":[[0,0,0,39],[1,0,1,39],[2,0,2,39],[3,0,3,39],[23,25,24,36],[24,1,24,12],[24,13,24,24],[9,16,9,18],[9,19,9,21],[9,22,9,24],[23,0,26,0],[23,1,23,24],[7,0,10,0],[7,1,7,24],[8,1,8,12],[8,13,8,24],[25,1,25,3],[25,4,25,6],[25,25,25,27],[25,28,25,30],[25,31,25,33],[25,34,25,36],[25,7,25,9],[25,10,25,12],[25,13,25,15],[25,16,25,18],[25,19,25,21],[25,22,25,24],[9,1,9,3],[9,4,9,6],[9,7,9,9],[9,10,9,12],[9,13,9,15]]}
["SECRETARÍA DE EDUCACIÓN PÚBLICA DEL ESTADO DE BAJA CALIFORNIA SUR"]
["DIRECCIÓN DE EDUCACIÓN SECUNDARIA"]
["CICLO ESCOLAR 2018 - 2019"]
["MATRÍCULA"]
[]
["DIRECCIÓN: EDUCACIÓN SECUNDARIA    DIRECTOR: PROFR. RUMUALDO RAMÍREZ GUTIERRÉZ     PERIODO DE EVALUACIÓN:  3ER PERIODO"]
[]
["Modalidad","MATRÍCULA"]
[null,"INSCRIPCIÓN INICIAL ",null,null,null,null,null,null,null,null,null,null,null,"CAMBIOS DESDE OTRAS ESCUELAS (ALTAS)"]
[null,"PRIMERO",null,null,"SEGUNDO",null,null,"TERCERO",null,null,"TOTAL",null,null,"PRIMERO",null,null,"SEGUNDO",null,null,"TERCERO",null,null,"TOTAL"]
[null,"H","M","T","H","M","T","H","M","T","H","M","T","H","M","T","H","M","T","H","M","T","H","M","T"]
["Grales.",3415,3169,{"$f":"IF(SUM(B12,C12)=0,\"\",SUM(B12,C12))","v":6584},3250,3155,{"$f":"IF(SUM(E12,F12)=0,\"\",SUM(E12,F12))","v":6405},3132,3088,{"$f":"IF(SUM(H12,I12)=0,\"\",SUM(H12,I12))","v":6220},{"$f":"IF(SUM(B12,E12,H12)=0,\"\",SUM(B12,E12,H12))","v":9797},{"$f":"IF(SUM(C12,F12,I12)=0,\"\",SUM(SUM(C12,F12,I12)))","v":9412},{"$f":"IF(SUM(K12,L12)=0,\"\",SUM(K12,L12))","v":19209},115,125,{"$f":"IF(SUM(N12,O12)=0,\"\",SUM(N12,O12))","v":240},104,114,{"$f":"IF(SUM(Q12,R12)=0,\"\",SUM(Q12,R12))","v":218},88,63,{"$f":"IF(SUM(T12,U12)=0,\"\",SUM(T12,U12))","v":151},{"$f":"IF(SUM(N12,Q12,T12)=0,\"\",SUM(N12,Q12,T12))","v":307},{"$f":"IF(SUM(O12,R12,U12)=0,\"\",SUM(SUM(O12,R12,U12)))","v":302},{"$f":"IF(SUM(W12,X12)=0,\"\",SUM(W12,X12))","v":609}]
["Técs.",2568,2550,{"$f":"IF(SUM(B13,C13)=0,\"\",SUM(B13,C13))","v":5118},2558,2463,{"$f":"IF(SUM(E13,F13)=0,\"\",SUM(E13,F13))","v":5021},2509,2365,{"$f":"IF(SUM(H13,I13)=0,\"\",SUM(H13,I13))","v":4874},{"$f":"IF(SUM(B13,E13,H13)=0,\"\",SUM(B13,E13,H13))","v":7635},{"$f":"IF(SUM(C13,F13,I13)=0,\"\",SUM(SUM(C13,F13,I13)))","v":7378},{"$f":"IF(SUM(K13,L13)=0,\"\",SUM(K13,L13))","v":15013},53,56,{"$f":"IF(SUM(N13,O13)=0,\"\",SUM(N13,O13))","v":109},51,85,{"$f":"IF(SUM(Q13,R13)=0,\"\",SUM(Q13,R13))","v":136},41,49,{"$f":"IF(SUM(T13,U13)=0,\"\",SUM(T13,U13))","v":90},{"$f":"IF(SUM(N13,Q13,T13)=0,\"\",SUM(N13,Q13,T13))","v":145},{"$f":"IF(SUM(O13,R13,U13)=0,\"\",SUM(SUM(O13,R13,U13)))","v":190},{"$f":"IF(SUM(W13,X13)=0,\"\",SUM(W13,X13))","v":335}]
["Telesec.",790,707,1497,695,671,1366,725,652,1377,2210,2030,4240,37,19,56,17,23,40,18,16,34,72,58,130]
[null,null,null,"",null,null,"",null,null,"","","","",null,null,"",null,null,"",null,null,"","","",""]
[null,null,null,"",null,null,"",null,null,"","","","",null,null,"",null,null,"",null,null,"","","",""]
[null,null,null,"",null,null,"",null,null,"","","","",null,null,"",null,null,"",null,null,"","","",""]
[null,null,null,"",null,null,"",null,null,"","","","",null,null,"",null,null,"",null,null,"","","",""]
[null,null,null,"",null,null,"",null,null,"","","","",null,null,"",null,null,"",null,null,"","","",""]
[null,null,null,{"$f":"IF(SUM(B20,C20)=0,\"\",SUM(B20,C20))","v":""},null,null,{"$f":"IF(SUM(E20,F20)=0,\"\",SUM(E20,F20))","v":""},null,null,{"$f":"IF(SUM(H20,I20)=0,\"\",SUM(H20,I20))","v":""},{"$f":"IF(SUM(B20,E20,H20)=0,\"\",SUM(B20,E20,H20))","v":""},{"$f":"IF(SUM(C20,F20,I20)=0,\"\",SUM(SUM(C20,F20,I20)))","v":""},{"$f":"IF(SUM(K20,L20)=0,\"\",SUM(K20,L20))","v":""},null,null,{"$f":"IF(SUM(N20,O20)=0,\"\",SUM(N20,O20))","v":""},null,null,{"$f":"IF(SUM(Q20,R20)=0,\"\",SUM(Q20,R20))","v":""},null,null,{"$f":"IF(SUM(T20,U20)=0,\"\",SUM(T20,U20))","v":""},{"$f":"IF(SUM(N20,Q20,T20)=0,\"\",SUM(N20,Q20,T20))","v":""},{"$f":"IF(SUM(O20,R20,U20)=0,\"\",SUM(SUM(O20,R20,U20)))","v":""},{"$f":"IF(SUM(W20,X20)=0,\"\",SUM(W20,X20))","v":""}]
[null,null,null,"",null,null,"",null,null,"","","","",null,null,"",null,null,"",null,null,"","","",""]
["TOTAL",{"$f":"SUM(B12:B21)","v":6773},6426,13199,6503,6289,12792,6366,6105,12471,19642,18820,38462,205,200,405,172,222,394,147,128,275,524,550,1074]
[]
["Modalidad","BAJAS",null,null,null,null,null,null,null,null,null,null,null,null,null,null,null,null,null,null,null,null,null,null,null,"EXISTENCIA"]
[null,"DESERCIÓN",null,null,null,null,null,null,null,null,null,null,null,"CAMBIOS HACIA OTRAS ESCUELAS (TRASLADOS)"]
[null,"PRIMERO",null,null,"SEGUNDO",null,null,"TERCERO",null,null,"TOTAL",null,null,"PRIMERO",null,null,"SEGUNDO",null,null,"TERCERO",null,null,"TOTAL",null,null,"PRIMERO",null,null,"SEGUNDO",null,null,"TERCERO",null,null,"TOTAL"]
[null,"H","M","T","H","M","T","H","M","T","H","M","T","H","M","T","H","M","T","H","M","T","H","M","T","H","M","T","H","M","T","H","M","T","H","M","T"]
["Grales.",27,17,{"$f":"IF(SUM(B28,C28)=0,\"\",SUM(B28,C28))","v":44},29,20,{"$f":"IF(SUM(E28,F28)=0,\"\",SUM(E28,F28))","v":49},52,27,{"$f":"IF(SUM(H28,I28)=0,\"\",SUM(H28,I28))","v":79},{"$f":"IF(SUM(B28,E28,H28)=0,\"\",SUM(B28,E28,H28))","v":108},{"$f":"IF(SUM(C28,F28,I28)=0,\"\",SUM(SUM(C28,F28,I28)))","v":64},{"$f":"IF(SUM(K28,L28)=0,\"\",SUM(K28,L28))","v":172},137,114,{"$f":"IF(SUM(N28,O28)=0,\"\",SUM(N28,O28))","v":251},108,125,{"$f":"IF(SUM(Q28,R28)=0,\"\",SUM(Q28,R28))","v":233},104,82,{"$f":"IF(SUM(T28,U28)=0,\"\",SUM(T28,U28))","v":186},{"$f":"IF(SUM(N28,Q28,T28)=0,\"\",SUM(N28,Q28,T28))","v":349},{"$f":"IF(SUM(O28,R28,U28)=0,\"\",SUM(SUM(O28,R28,U28)))","v":321},{"$f":"IF(SUM(W28,X28)=0,\"\",SUM(W28,X28))","v":670},3366,3163,{"$f":"IF(SUM(Z28,AA28)=0,\"\",SUM(Z28,AA28))","v":6529},3217,3124,{"$f":"IF(SUM(AC28,AD28)=0,\"\",SUM(AC28,AD28))","v":6341},3064,3042,{"$f":"IF(SUM(AF28,AG28)=0,\"\",SUM(AF28,AG28))","v":6106},{"$f":"IF(SUM(Z28,AC28,AF28)=0,\"\",SUM(Z28,AC28,AF28))","v":9647},{"$f":"IF(SUM(AA28,AD28,AG28)=0,\"\",SUM(SUM(AA28,AD28,AG28)))","v":9329},{"$f":"IF(SUM(AI28,AJ28)=0,\"\",SUM(AI28,AJ28))","v":18976}]
["Técs.",20,10,{"$f":"IF(SUM(B29,C29)=0,\"\",SUM(B29,C29))","v":30},17,15,{"$f":"IF(SUM(E29,F29)=0,\"\",SUM(E29,F29))","v":32},16,11,{"$f":"IF(SUM(H29,I29)=0,\"\",SUM(H29,I29))","v":27},{"$f":"IF(SUM(B29,E29,H29)=0,\"\",SUM(B29,E29,H29))","v":53},{"$f":"IF(SUM(C29,F29,I29)=0,\"\",SUM(SUM(C29,F29,I29)))","v":36},{"$f":"IF(SUM(K29,L29)=0,\"\",SUM(K29,L29))","v":89},83,74,{"$f":"IF(SUM(N29,O29)=0,\"\",SUM(N29,O29))","v":157},65,74,{"$f":"IF(SUM(Q29,R29)=0,\"\",SUM(Q29,R29))","v":139},74,58,{"$f":"IF(SUM(T29,U29)=0,\"\",SUM(T29,U29))","v":132},{"$f":"IF(SUM(N29,Q29,T29)=0,\"\",SUM(N29,Q29,T29))","v":222},{"$f":"IF(SUM(O29,R29,U29)=0,\"\",SUM(SUM(O29,R29,U29)))","v":206},{"$f":"IF(SUM(W29,X29)=0,\"\",SUM(W29,X29))","v":428},2518,2522,{"$f":"IF(SUM(Z29,AA29)=0,\"\",SUM(Z29,AA29))","v":5040},2527,2459,{"$f":"IF(SUM(AC29,AD29)=0,\"\",SUM(AC29,AD29))","v":4986},2460,2345,{"$f":"IF(SUM(AF29,AG29)=0,\"\",SUM(AF29,AG29))","v":4805},{"$f":"IF(SUM(Z29,AC29,AF29)=0,\"\",SUM(Z29,AC29,AF29))","v":7505},{"$f":"IF(SUM(AA29,AD29,AG29)=0,\"\",SUM(SUM(AA29,AD29,AG29)))","v":7326},{"$f":"IF(SUM(AI29,AJ29)=0,\"\",SUM(AI29,AJ29))","v":14831}]
["Telesec.",11,9,20,9,10,19,12,9,21,32,28,60,27,15,42,13,19,32,14,10,24,54,44,98,789,702,1491,690,665,1355,717,649,1366,2196,2016,4212]
[null,null,null,"",null,null,"",null,null,"","","","",null,null,"",null,null,"",null,null,"","","","",null,null,"",null,null,"",null,null,"","","",""]
[null,null,null,"",null,null,"",null,null,"","","","",null,null,"",null,null,"",null,null,"","","","",null,null,"",null,null,"",null,null,"","","",""]
[null,null,null,"",null,null,"",null,null,"","","","",null,null,"",null,null,"",null,null,"","","","",null,null,"",null,null,"",null,null,"","","",""]
[null,null,null,"",null,null,"",null,null,"","","","",null,null,"",null,null,"",null,null,"","","","",null,null,"",null,null,"",null,null,"","","",""]
[null,null,null,"",null,null,"",null,null,"","","","",null,null,"",null,null,"",null,null,"","","","",null,null,"",null,null,"",null,null,"","","",""]
[null,null,null,{"$f":"IF(SUM(B36,C36)=0,\"\",SUM(B36,C36))","v":""},null,null,{"$f":"IF(SUM(E36,F36)=0,\"\",SUM(E36,F36))","v":""},null,null,{"$f":"IF(SUM(H36,I36)=0,\"\",SUM(H36,I36))","v":""},{"$f":"IF(SUM(B36,E36,H36)=0,\"\",SUM(B36,E36,H36))","v":""},{"$f":"IF(SUM(C36,F36,I36)=0,\"\",SUM(SUM(C36,F36,I36)))","v":""},{"$f":"IF(SUM(K36,L36)=0,\"\",SUM(K36,L36))","v":""},null,null,{"$f":"IF(SUM(N36,O36)=0,\"\",SUM(N36,O36))","v":""},null,null,{"$f":"IF(SUM(Q36,R36)=0,\"\",SUM(Q36,R36))","v":""},null,null,{"$f":"IF(SUM(T36,U36)=0,\"\",SUM(T36,U36))","v":""},{"$f":"IF(SUM(N36,Q36,T36)=0,\"\",SUM(N36,Q36,T36))","v":""},{"$f":"IF(SUM(O36,R36,U36)=0,\"\",SUM(SUM(O36,R36,U36)))","v":""},{"$f":"IF(SUM(W36,X36)=0,\"\",SUM(W36,X36))","v":""},null,null,{"$f":"IF(SUM(Z36,AA36)=0,\"\",SUM(Z36,AA36))","v":""},null,null,{"$f":"IF(SUM(AC36,AD36)=0,\"\",SUM(AC36,AD36))","v":""},null,null,{"$f":"IF(SUM(AF36,AG36)=0,\"\",SUM(AF36,AG36))","v":""},{"$f":"IF(SUM(Z36,AC36,AF36)=0,\"\",SUM(Z36,AC36,AF36))","v":""},{"$f":"IF(SUM(AA36,AD36,AG36)=0,\"\",SUM(SUM(AA36,AD36,AG36)))","v":""},{"$f":"IF(SUM(AI36,AJ36)=0,\"\",SUM(AI36,AJ36))","v":""}]
[null,null,null,"",null,null,"",null,null,"","","","",null,null,"",null,null,"",null,null,"","","","",null,null,"",null,null,"",null,null,"","","",""]
["TOTAL",{"$f":"SUM(B28:B37)","v":58},36,94,55,45,100,80,47,127,193,128,321,247,203,450,186,218,404,192,150,342,625,571,1196,{"$f":"SUM(B22,N22-B38-N38)","v":6673},{"$f":"SUM(C22,O22-C38-O38)","v":6387},{"$f":"SUM(AB28:AB37)","v":13060},{"$f":"SUM(E22,Q22-E38-Q38)","v":6434},{"$f":"SUM(F22,R22-F38-R38)","v":6248},{"$f":"SUM(AE28:AE37)","v":12682},{"$f":"SUM(H22,T22-H38-T38)","v":6241},{"$f":"SUM(I22,U22-I38-U38)","v":6036},{"$f":"SUM(AH28:AH37)","v":12277},{"$f":"SUM(AI28:AI37)","v":19348},{"$f":"SUM(AJ28:AJ37)","v":18671},{"$f":"SUM(AK28:AK37)","v":38019}]

{"sheet":"NORMALIDAD MÍNIMA","index":6,"n_rows":55,"n_cols":17,"rows_kept":55,"cut":false,"hidden":false,"merged":[[0,0,0,16],[1,0,1,16],[2,0,2,16],[3,0,3,16],[4,1,4,16],[5,12,5,13],[5,14,5,15],[18,0,18,16],[19,2,31,4],[19,5,19,7],[19,8,20,8],[19,9,19,11],[19,12,19,13],[19,14,19,15],[5,1,6,1],[5,2,5,4],[5,5,5,7],[5,8,6,8],[5,9,5,11],[19,1,20,1],[50,1,50,9],[50,10,50,15],[34,0,35,1],[34,2,34,4],[34,5,34,7],[34,8,35,8],[34,9,34,11],[34,12,34,13],[34,14,34,15],[48,1,48,3],[48,10,48,15],[49,1,49,9],[49,10,49,15],[54,1,54,9],[51,1,51,9],[51,10,51,15],[52,1,52,9],[52,10,52,15],[53,1,53,9],[53,10,53,15]]}
["SECRETARÍA DE EDUCACIÓN PÚBLICA DEL ESTADO DE BAJA CALIFORNIA SUR"]
["DIRECCIÓN DE EDUCACIÓN SECUNDARIA"]
["CICLO ESCOLAR 2018 - 2019"]
["CONCENTRADO NORMALIDAD MÍNIMA"]
[null,"DIRECCIÓN: EDUCACIÓN SECUNDARIA    DIRECTOR: PROFR. RUMUALDO RAMÍREZ GUTIERRÉZ     PERIODO DE EVALUACIÓN:  3ER. PERIODO."]
[null,"Modalidad","DIRECTIVOS",null,null,"COORDINADORES",null,null,"R","INASISTENCIAS",null,null,"LICENCIAS ECONÓMICAS",null,"LICENCIAS MÉDICAS",null,"TOTAL DE DÍAS NO LABORADOS"]
[null,null,"H","M","T","H","M","T",null,"I ","P.D.","D.N.L.I y P.D.","L.E."," D.N.L.E.","L.M.","D.N.L.M.","DNLI y PD, DNLE, DNLM"]
[null,"Grales.",60,66,{"$f":"IF(SUM(C8,D8)=0,\"\",SUM(C8,D8))","v":126},41,42,{"$f":"IF(SUM(F8,G8)=0,\"\",SUM(F8,G8))","v":83},12,63,41,{"$f":"IF(SUM(J8,K8)=0,\"\",SUM(J8,K8))","v":104},95,266,77,414,{"$f":"IF(SUM(L8,N8,P8)=0,\"0\",SUM(L8,N8,P8))","v":784}]
[null,"Técs.",39,24,{"$f":"IF(SUM(C9,D9)=0,\"\",SUM(C9,D9))","v":63},37,32,{"$f":"IF(SUM(F9,G9)=0,\"\",SUM(F9,G9))","v":69},11,60,37,{"$f":"IF(SUM(J9,K9)=0,\"\",SUM(J9,K9))","v":97},67,179,37,183,{"$f":"IF(SUM(L9,N9,P9)=0,\"0\",SUM(L9,N9,P9))","v":459}]
[null,"Telesec.",25,9,34,null,null,"",null,null,1,1,1,1,0,0,2]
[null,null,null,null,"",null,null,"",null,null,null,{"$f":"IF(SUM(J11,K11)=0,\"\",SUM(J11,K11))","v":""},null,null,null,null,"0"]
[null,null,null,null,"",null,null,"",null,null,null,"",null,null,null,null,"0"]
[null,null,null,null,{"$f":"IF(SUM(C13,D13)=0,\"\",SUM(C13,D13))","v":""},null,null,{"$f":"IF(SUM(F13,G13)=0,\"\",SUM(F13,G13))","v":""},null,null,null,{"$f":"IF(SUM(J13,K13)=0,\"\",SUM(J13,K13))","v":""},null,null,null,null,{"$f":"IF(SUM(L13,N13,P13)=0,\"0\",SUM(L13,N13,P13))","v":"0"}]
[null,null,null,null,"",null,null,"",null,null,null,"",null,null,null,null,"0"]
[null,null,null,null,"",null,null,"",null,null,null,"",null,null,null,null,"0"]
[null,null,null,null,"",null,null,"",null,null,null,"",null,null,null,null,"0"]
[null,null,null,null,"",null,null,"",null,null,null,"",null,null,null,null,"0"]
[null,"Total",{"$f":"SUM(C8:C17)","v":124},{"$f":"SUM(D8:D17)","v":99},223,78,74,152,{"$f":"SUM(I8:I17)","v":23},{"$f":"SUM(J8:J17)","v":123},{"$f":"SUM(K8:K17)","v":79},{"$f":"SUM(L8:L17)","v":202},{"$f":"SUM(M8:M17)","v":163},{"$f":"SUM(N8:N17)","v":446},{"$f":"SUM(O8:O17)","v":114},{"$f":"SUM(P8:P17)","v":597},{"$f":"SUM(Q8:Q17)","v":1245}]
[]
["Zona escolar","Modalidad","PERSONAL  POR HORAS ",null,null,"DOCENTES",null,null,"R","INASISTENCIAS",null,null,"LICENCIAS ECONÓMICAS",null,"LICENCIAS MÉDICAS",null,"TOTAL DE HORAS NO LABORADOS"]
[null,null,null,null,null,"H","M","T",null,"I ","P.D.","H.N.L.I y P.D.","L.E."," H.N.L.E.","L.M.","H.N.L.M.","HNLI y PD, HNLE, HNLM"]
[null,"Grales.",null,null,null,643,745,{"$f":"IF(SUM(F22,G22)=0,\"\",SUM(F22,G22))","v":1388},1319,2178,1067,6251,1060,11299,617,10854,{"$f":"IF(SUM(L22,N22,P22)=0,\"0\",SUM(L22,N22,P22))","v":28404}]
[null,"Técs.",null,null,null,270,308,578,222,2716,330,3922,649,6193,366,7313,{"$f":"IF(SUM(L23,N23,P23)=0,\"0\",SUM(L23,N23,P23))","v":17428}]
[null,"Telesec.",null,null,null,148,106,254,null,2,0,{"$f":"2*6","v":12},84,{"$f":"165*6","v":990},37,{"$f":"183*6","v":1098},2100]
[null,null,null,null,null,null,null,"",null,null,null,{"$f":"IF(SUM(J25,K25)=0,\"\",SUM(J25,K25))","v":""},null,null,null,null,"0"]
[null,null,null,null,null,null,null,"",null,null,null,"",null,null,null,null,"0"]
[null,null,null,null,null,null,null,"",null,null,null,"",null,null,null,null,"0"]
[null,null,null,null,null,null,null,"",null,null,null,"",null,null,null,null,"0"]
[null,null,null,null,null,null,null,"",null,null,null,"",null,null,null,null,"0"]
[null,null,null,null,null,null,null,"",null,null,null,"",null,null,null,null,"0"]
[null,null,null,null,null,null,null,"",null,null,null,"",null,null,null,null,"0"]
[null,"Total",null,null,null,{"$f":"SUM(F22:F31)","v":1061},{"$f":"SUM(G22:G31)","v":1159},2220,1541,4896,1397,10185,1793,18482,1020,19265,47932]
[]
[]
["Modalidad",null,"ASISTENCIA EDUCATIVA",null,null,"ADMINISTRATIVO Y DE APOYO",null,null,"R","INASISTENCIAS",null,null,"LICENCIAS ECONÓMICAS",null,"LICENCIAS MÉDICAS",null,"TOTAL DE DÍAS NO LABORADOS"]
[null,null,"H","M","T","H","M","T",null,"I ","P.D.","D.N.L.I y P.D.","L.E."," D.N.L.E.","L.M.","D.N.L.M.","DNLI y PD, DNLE, DNLM"]
[null,"Grales.",75,155,{"$f":"IF(SUM(C37,D37)=0,\"\",SUM(C37,D37))","v":230},230,293,{"$f":"IF(SUM(F37,G37)=0,\"\",SUM(F37,G37))","v":523},556,331,330,{"$f":"SUM(J37,K37)","v":661},691,2045,337,1959,{"$f":"IF(SUM(L37,N37,P37)=0,\"0\",SUM(L37,N37,P37))","v":4665}]
[null,"Técs.",53,68,121,109,112,221,135,143,69,{"$f":"SUM(J38,K38)","v":212},418,1242,248,1079,{"$f":"IF(SUM(L38,N38,P38)=0,\"0\",SUM(L38,N38,P38))","v":2533}]
[null,"Telesec.",1,4,5,54,49,103,null,2,2,4,47,103,17,66,173]
[null,null,null,null,"",null,null,"",null,null,null,{"$f":"IF(SUM(J40,K40)=0,\"\",SUM(J40,K40))","v":""},null,null,null,null,"0"]
[null,null,null,null,"",null,null,"",null,null,null,"",null,null,null,null,"0"]
[null,null,null,null,"",null,null,"",null,null,null,"",null,null,null,null,"0"]
[null,null,null,null,"",null,null,"",null,null,null,"",null,null,null,null,"0"]
[null,null,null,null,"",null,null,"",null,null,null,"",null,null,null,null,"0"]
[null,null,null,null,"",null,null,"",null,null,null,"",null,null,null,null,"0"]
[null,null,null,null,{"$f":"IF(SUM(C46,D46)=0,\"\",SUM(C46,D46))","v":""},null,null,{"$f":"IF(SUM(F46,G46)=0,\"\",SUM(F46,G46))","v":""},null,null,null,{"$f":"IF(SUM(J46,K46)=0,\"\",SUM(J46,K46))","v":""},null,null,null,null,"0"]
[null,"Total",{"$f":"SUM(C37:C46)","v":129},{"$f":"SUM(D37:D46)","v":227},356,393,454,847,691,476,401,877,1156,3390,602,3104,7371]
[]
[null,"NOTA:",null,null,null,null,null,null,null,null,"NOTA:"]
[null,"I.: INASISTENCIAS",null,null,null,null,null,null,null,null,"H.N.L.E.: HORAS NO LABORADOS POR LICENCIAS ECONÓMICAS"]
[null,"H.N.L.I.: HORAS NO LABORADAS POR INASISTENCIAS",null,null,null,null,null,null,null,null,"D.N.L.E.:  DÍAS NO LABORADOS POR LICENCIAS ECONÓMICAS"]
[null,"D.N.L.I.: DÍAS NO LABORADOS POR INASISTENCIAS",null,null,null,null,null,null,null,null,"L.M.: PERSONAS QUE PRESENTARON LICENCIAS MÉDICAS"]
[null,"R. :  CANTIDAD DE RETARDOS",null,null,null,null,null,null,null,null,"H.N.L.M.: HORAS NO LABORADAS POR LICENCIAS MÉDICAS"]
[null,"L.E.:   PERSONAL QUE SOLICITÓ LICENCIAS ECONÓMICAS",null,null,null,null,null,null,null,null,"D.N.L.M.: DÍAS NO LABORADOS POR LICENCIAS MÉDICAS"]
[null,"P.D.: PERMISOS DIRECCIÓN"]